{"text_format":"1","workbook":"xlsx","n_sheets":7,"sheets":["Daily Briefing","FDRA Map","West","East","Laramie","South Bighorns","Med-Bow"],"not_rendered":{"charts":0,"images":1,"macros":1,"external_links":0,"defined_names":5,"comments":0,"pivot_tables":0},"unopened":[],"bounds":{"document_bytes":16777216,"sheet_cells":100000,"rows_first":2000,"rows_last":500,"rows_between":2000,"halvings":0,"cell_chars":16384,"cell_head_chars":4096},"cells_cut":0,"cells_raw":0,"read":"whole","date_system":"1900"}

{"sheet":"Daily Briefing","index":0,"n_rows":59,"n_cols":29,"rows_kept":59,"cut":false,"hidden":false,"merged":[[40,14,40,18],[39,13,39,18],[5,2,5,10],[6,13,6,18],[28,13,28,18],[29,14,29,18],[7,7,13,7],[18,7,24,7],[29,7,35,7],[40,7,46,7],[17,13,17,18],[18,14,18,18],[19,21,19,25],[17,20,17,25],[18,20,18,25],[30,27,30,28],[17,27,17,28],[18,27,18,28],[19,27,19,28],[28,27,28,28],[29,27,29,28],[30,21,30,25],[28,20,28,25],[29,20,29,25],[6,20,6,25],[7,20,7,25],[8,21,8,25],[7,27,7,28],[8,27,8,28],[6,27,6,28],[50,27,50,28],[51,27,51,28],[52,27,52,28],[5,12,5,29],[7,14,7,18],[50,13,50,18],[51,14,51,18],[50,20,50,25],[51,20,51,25],[52,21,52,25],[39,20,39,25],[40,20,40,25],[41,21,41,25],[39,27,39,28],[40,27,40,28],[41,27,41,28],[51,7,57,7],[8,1,13,1],[19,1,24,1],[30,1,35,1],[41,1,46,1],[52,1,57,1]]}
[]
[null,null,null,null,null,null,null,null,"Calculated Dispatch PL (Today)","> than 50% committed resources?","Actual PL"]
[null,null,null,null,null,null,null,null,{"$f":"ROUND(AVERAGE(I8,I19,I30,I41,I52),0)","v":2},"No",{"$f":"IF(J3=\"Yes\", MIN(I3+1, 5), I3)","v":2}]
[]
[]
[null,null," Casper Interagency Dispatch\nCurrent Fire Danger ",null,null,null,null,null,null,null,null,null,"FDOP Reference Data"]
[null,null,"WEST FDRA","ERC","BI","IC","ADJ RATING (DAILY)","ADJ RATING (POSTED)","PREPAREDNESS \n","RESPONSE","STAFFING",null,null,"WEST RESPONSE LEVEL",null,null,null,null,null,null,"WEST  FIRE DANGER RATING",null,null,null,null,null,null,"PL / SL (ERCs)"]
[null,"Today",{"$f":"TODAY()","v":"2025-09-23"},{"$f":"AVERAGE(West!E27:E31)","v":22.873999999999999},{"$f":"AVERAGE(West!G27:G31)","v":16.088000000000001},{"$f":"AVERAGE(West!D27:D31)","v":3.8340000000000005},{"$f":"INDEX($V$11:$Z$15,MATCH($K$8,$U$11:$U$15),MATCH($F$8,$V$10:$Z$10))","v":1},{"$f":"ROUND(AVERAGE(G8:G13),0)","v":2},{"$f":"VLOOKUP(D8,$AB$10:$AC$14,2)","v":2},{"$f":"INDEX($O$10:$S$12,MATCH($E$8,$N$10:$N$12),MATCH($D$8,$O$9:$S$9))","v":1},{"$f":"VLOOKUP($D$8,$AB$10:$AC$14,2)","v":2},null,null,null,"ERC",null,null,null,null,null,"ADJECTIVE FIRE DANGER RATING",null,null,null,null,null,null,"WEST "]
[null,"Forecasted",{"$f":"TODAY()+1","v":"2025-09-24"},{"$f":"AVERAGE(West!E22:E26)","v":26.35},{"$f":"AVERAGE(West!G22:G26)","v":16.687999999999999},{"$f":"AVERAGE(West!D22:D26)","v":14.013999999999999},{"$f":"INDEX($V$11:$Z$15,MATCH($K9,$U$11:$U$15),MATCH($F9,$V$10:$Z$10))","v":2},null,{"$f":"VLOOKUP($D$9,$AB$10:$AC$14,2)","v":2},{"$f":"INDEX($O$10:$S$12,MATCH($E$9,$N$10:$N$12),MATCH($D$9,$O$9:$S$9))","v":1},{"$f":"VLOOKUP($D$9,$AB$10:$AC$14,2)","v":2},null,null,"BI",0,13,33,45,53,null,null,"IGNITION COMPONENT",null,null,null,null,null,"FM X"]
[null,null,{"$f":"TODAY()+2","v":"2025-09-25"},{"$f":"AVERAGE(West!E17:E21)","v":29.48},{"$f":"AVERAGE(West!G17:G21)","v":22.468},{"$f":"AVERAGE(West!D17:D21)","v":27.077999999999996},{"$f":"INDEX(V11:Z15,MATCH($K$10,$U$11:$U$15),MATCH($F$10,$V$10:$Z$10))","v":2},null,{"$f":"VLOOKUP($D$10,$AB$10:$AC$14,2)","v":2},{"$f":"INDEX(O10:$S$12,MATCH($E$10,$N$10:$N$12),MATCH($D$10,$O$9:$S$9))","v":1},{"$f":"VLOOKUP($D$10,$AB$10:$AC$14,2)","v":2},null,null,0,1,1,1,2,2,null,"STAFFING LEVEL (ERC)",0,9,26,42,57,null,0,1]
[null,null,{"$f":"TODAY()+3","v":"2025-09-26"},{"$f":"AVERAGE(West!E12:E16)","v":31.821999999999996},{"$f":"AVERAGE(West!G12:G16)","v":24.659999999999997},{"$f":"AVERAGE(West!D12:D16)","v":29.146000000000004},{"$f":"INDEX($V$11:$Z$15,MATCH($K$11,$U$11:$U$15),MATCH($F$11,$V$10:$Z$10))","v":2},null,{"$f":"VLOOKUP(D$11,$AB$10:$AC$14,2)","v":2},{"$f":"INDEX($O$10:S$12,MATCH($E$11,$N$10:$N$12),MATCH($D$11,$O$9:$S$9))","v":1},{"$f":"VLOOKUP($D11,$AB$10:$AC$14,2)","v":2},null,null,19,1,1,2,2,3,null,1,1,1,1,2,2,null,13,2]
[null,null,{"$f":"TODAY()+4","v":"2025-09-27"},{"$f":"AVERAGE(West!E7:E11)","v":33.281999999999996},{"$f":"AVERAGE(West!G7:G11)","v":24.027999999999999},{"$f":"AVERAGE(West!D7:D11)","v":26.18},{"$f":"INDEX($V$11:$Z$15,MATCH($K$12,$U$11:$U$15),MATCH($F$12,$V$10:$Z$10))","v":3},null,{"$f":"VLOOKUP($D12,$AB$10:$AC$14,2)","v":3},{"$f":"INDEX($O$10:$S$12,MATCH($E$12,$N$10:$N$12),MATCH($D$12,$O$9:$S$9))","v":2},{"$f":"VLOOKUP($D12,$AB$10:$AC$14,2)","v":3},null,null,33,1,2,3,3,3,null,2,1,2,2,2,3,null,33,3]
[null,null,{"$f":"TODAY()+5","v":"2025-09-28"},{"$f":"AVERAGE(West!E2:E6)","v":33.82},{"$f":"AVERAGE(West!G2:G6)","v":24.957999999999998},{"$f":"AVERAGE(West!D2:D6)","v":20.527999999999999},{"$f":"INDEX($V$11:$Z$15,MATCH($K$13,$U$11:$U$15),MATCH($F$13,$V$10:$Z$10))","v":2},null,{"$f":"VLOOKUP($D13,$AB$10:$AC$14,2)","v":3},{"$f":"INDEX($O$10:$S$12,MATCH($E$13,$N$10:$N$12),MATCH($D$13,$O$9:$S$9))","v":2},{"$f":"VLOOKUP($D13,$AB$10:$AC$14,2)","v":3},null,null,null,null,null,null,null,null,null,3,2,2,3,3,4,null,45,4]
[null,null,{"$f":"TODAY()+6","v":"2025-09-29"},null,null,null,null,null,null,null,null,null,null,null,null,null,null,null,null,null,4,2,3,4,4,5,null,53,5]
[null,null,null,null,null,null,null,null,null,null,null,null,null,null,null,null,null,null,null,null,5,3,4,4,5,5]
[]
[]
[null,null,"EAST FDRA","ERC","BI","IC","ADJ RATING (DAILY)","ADJ RATING (POSTED)","PREPAREDNESS \n","RESPONSE","STAFFING",null,null,"EAST RESPONSE LEVEL",null,null,null,null,null,null,"EAST  FIRE DANGER RATING",null,null,null,null,null,null,"PL / SL (ERCs)"]
[null,"Today",{"$f":"TODAY()","v":"2025-09-23"},{"$f":"AVERAGE(East!E22:E25)","v":27.32},{"$f":"AVERAGE(East!G22:G25)","v":17.567499999999999},{"$f":"AVERAGE(East!D22:D25)","v":8.5274999999999999},{"$f":"INDEX($V$22:$Z$26,MATCH($K19,$U$22:$U$26),MATCH($F19,$V$21:$Z$21))","v":1},{"$f":"ROUND(AVERAGE(G19:G24),0)","v":3},{"$f":"VLOOKUP($D19,$AB$21:$AC$25,2)","v":2},{"$f":"INDEX($O$21:$S$23,MATCH($E$19,$N$21:$N$23),MATCH($D$19,$O$20:$S$20))","v":1},{"$f":"VLOOKUP($D19,$AB$21:$AC$25,2)","v":2},null,null,null,"ERC",null,null,null,null,null,"ADJECTIVE FIRE DANGER RATING",null,null,null,null,null,null,"EAST "]
[null,"Forecasted",{"$f":"TODAY()+1","v":"2025-09-24"},{"$f":"AVERAGE(East!E18:E21)","v":31.3675},{"$f":"AVERAGE(East!G18:G21)","v":23.012499999999999},{"$f":"AVERAGE(East!D18:D21)","v":22.860000000000003},{"$f":"INDEX($V$22:$Z$26,MATCH($K20,$U$22:$U$26),MATCH($F20,$V$21:$Z$21))","v":3},null,3,{"$f":"INDEX($O$21:$S$23,MATCH($E$20,$N$21:$N$23),MATCH($D$20,$O$20:$S$20))","v":2},3,null,null,"BI",0,12,28,39,47,null,null,"IGNITION COMPONENT",null,null,null,null,null,"FM Y"]
[null,null,{"$f":"TODAY()+2","v":"2025-09-25"},{"$f":"AVERAGE(East!E14:E17)","v":34.527500000000003},{"$f":"AVERAGE(East!G14:G17)","v":23.147500000000001},{"$f":"AVERAGE(East!D14:D17)","v":28.847500000000004},3,null,3,{"$f":"INDEX($O$21:$S$23,MATCH($E$21,$N$21:$N$23),MATCH($D$21,$O$20:$S$20))","v":2},3,null,null,0,1,1,1,2,2,null,"STAFFING LEVEL (ERC)",0,9,20,35,47,null,0,1]
[null,null,{"$f":"TODAY()+3","v":"2025-09-26"},{"$f":"AVERAGE(East!E10:E13)","v":36.709999999999994},{"$f":"AVERAGE(East!G10:G13)","v":24.837499999999999},{"$f":"AVERAGE(East!D10:D13)","v":28.604999999999997},3,null,3,{"$f":"INDEX($O$21:$S$23,MATCH($E22,$N$21:$N$23),MATCH($D22,$O$20:$S$20))","v":2},3,null,null,21,1,1,2,2,3,null,1,1,1,1,2,2,null,12,2]
[null,null,{"$f":"TODAY()+4","v":"2025-09-27"},{"$f":"AVERAGE(East!E6:E9)","v":38.39},{"$f":"AVERAGE(East!G6:G9)","v":26.91},{"$f":"AVERAGE(East!D6:D9)","v":30.164999999999999},3,null,3,{"$f":"INDEX($O$21:$S$23,MATCH($E23,$N$21:$N$23),MATCH($D23,$O$20:$S$20))","v":2},3,null,null,29,1,2,3,3,3,null,2,1,2,2,2,3,null,28,3]
[null,null,{"$f":"TODAY()+5","v":"2025-09-28"},{"$f":"AVERAGE(East!E2:E5)","v":39.377499999999998},{"$f":"AVERAGE(East!G2:G5)","v":26.305},{"$f":"AVERAGE(East!D2:D5)","v":25.162500000000001},4,null,4,{"$f":"INDEX($O$21:$S$23,MATCH($E24,$N$21:$N$23),MATCH($D24,$O$20:$S$20))","v":2},4,null,null,null,null,null,null,null,null,null,3,2,2,3,3,4,null,39,4]
[null,null,{"$f":"TODAY()+6","v":"2025-09-29"},null,null,null,null,null,null,null,null,null,null,null,null,null,null,null,null,null,4,2,3,4,4,5,null,47,5]
[null,null,null,null,null,null,null,null,null,null,null,null,null,null,null,null,null,null,null,null,5,3,4,4,5,5]
[]
[]
[null,null,"LAR FDRA","ERC","BI","IC","ADJ RATING (DAILY)","ADJ RATING (POSTED)","PREPAREDNESS \n","RESPONSE","STAFFING",null,null,"LARAMIE RANGE RESPONSE LEVEL",null,null,null,null,null,null,"LARAMIE RANGE FIRE DANGER RATING",null,null,null,null,null,null,"PL / SL (ERCs)"]
[null,"Today",{"$f":"TODAY()","v":"2025-09-23"},{"$f":"AVERAGE(Laramie!E17:E19)","v":12.216666666666667},{"$f":"AVERAGE(Laramie!G17:G19)","v":8.4866666666666664},{"$f":"AVERAGE(Laramie!D17:D19)","v":1.5966666666666667},{"$f":"INDEX($V$33:$Z$37,MATCH($K30,$U$33:$U$37),MATCH($F30,$V$32:$Z$32))","v":1},{"$f":"ROUND(AVERAGE(G30:G35),0)","v":2},{"$f":"VLOOKUP($D30,$AB$32:$AC$36,2)","v":2},{"$f":"INDEX($O$32:$S$34,MATCH($E30,$N$32:$N$34),MATCH($D30,$O$31:$S$31))","v":1},{"$f":"VLOOKUP($D30,$AB$32:$AC$36,2)","v":2},null,null,null,"ERC",null,null,null,null,null,"ADJECTIVE FIRE DANGER RATING",null,null,null,null,null,null,"LARAMIE RANGE"]
[null,"Forecasted",{"$f":"TODAY()+1","v":"2025-09-24"},{"$f":"AVERAGE(Laramie!E14:E16)","v":15.773333333333333},{"$f":"AVERAGE(Laramie!G14:G16)","v":11.596666666666669},{"$f":"AVERAGE(Laramie!D14:D16)","v":11.336666666666666},2,null,2,1,2,null,null,"BI",0,12,28,39,47,null,null,"IGNITION COMPONENT",null,null,null,null,null,"FM Y"]
[null,null,{"$f":"TODAY()+2","v":"2025-09-25"},{"$f":"AVERAGE(Laramie!E11:E13)","v":20.220000000000002},{"$f":"AVERAGE(Laramie!G11:G13)","v":17.02},{"$f":"AVERAGE(Laramie!D11:D13)","v":21.61},2,null,2,1,2,null,null,0,1,1,1,2,2,null,"STAFFING LEVEL (ERC)",0,10,24,43,53,null,0,1]
[null,null,{"$f":"TODAY()+3","v":"2025-09-26"},{"$f":"AVERAGE(Laramie!E8:E10)","v":23.386666666666667},{"$f":"AVERAGE(Laramie!G8:G10)","v":19.086666666666666},{"$f":"AVERAGE(Laramie!D8:D10)","v":21.72666666666667},2,null,2,1,2,null,null,20,1,1,2,2,3,null,1,1,1,1,2,2,null,12,2]
[null,null,{"$f":"TODAY()+4","v":"2025-09-27"},{"$f":"AVERAGE(Laramie!E5:E7)","v":26.073333333333334},{"$f":"AVERAGE(Laramie!G5:G7)","v":20.333333333333332},{"$f":"AVERAGE(Laramie!D5:D7)","v":20.613333333333333},2,null,2,1,2,null,null,30,1,2,3,3,3,null,2,1,2,2,2,3,null,28,3]
[null,null,{"$f":"TODAY()+5","v":"2025-09-28"},{"$f":"AVERAGE(Laramie!E2:E4)","v":27.73},{"$f":"AVERAGE(Laramie!G2:G4)","v":21.26},{"$f":"AVERAGE(Laramie!D2:D4)","v":17.59},2,null,2,1,2,null,null,null,null,null,null,null,null,null,3,2,2,3,3,4,null,39,4]
[null,null,{"$f":"TODAY()+6","v":"2025-09-29"},null,null,null,null,null,null,null,null,null,null,null,null,null,null,null,null,null,4,2,3,4,4,5,null,47,5]
[null,null,null,null,null,null,null,null,null,null,null,null,null,null,null,null,null,null,null,null,5,3,4,4,5,5]
[]
[]
[null,null,"SOUTHERN BIG FDRA","ERC","BI","IC","ADJ RATING (DAILY)","ADJ RATING (POSTED)","PREPAREDNESS \n","RESPONSE","STAFFING",null,null,"SOUTH BIG HORNS RESPONSE LEVEL",null,null,null,null,null,null,"SOUTH BIG HORNS FIRE DANGER RATING",null,null,null,null,null,null,"PL / SL (ERCs)"]
[null,"Today",{"$f":"TODAY()","v":"2025-09-23"},{"$f":"AVERAGE('South Bighorns'!E12:E13)","v":24.66},{"$f":"AVERAGE('South Bighorns'!G12:G13)","v":15.54},{"$f":"AVERAGE('South Bighorns'!D12:D13)","v":4.6099999999999994},{"$f":"INDEX($V$44:$Z$48,MATCH($K41,$U$44:$U$48),MATCH($F41,$V$43:$Z$43))","v":2},{"$f":"ROUND(AVERAGE(G41:G46),0)","v":3},{"$f":"VLOOKUP($D41,$AB$43:$AC$47,2)","v":3},{"$f":"INDEX($O$43:$S$45,MATCH($E41,$N$43:$N$45),MATCH($D41,$O$42:$S$42))","v":1},{"$f":"VLOOKUP($D41,$AB$43:$AC$47,2)","v":3},null,null,null,"ERC",null,null,null,null,null,"ADJECTIVE FIRE DANGER RATING",null,null,null,null,null,null,"SOUTH BIG HORNS "]
[null,"Forecasted",{"$f":"TODAY()+1","v":"2025-09-24"},{"$f":"AVERAGE('South Bighorns'!E10:E11)","v":28.97},{"$f":"AVERAGE('South Bighorns'!G10:G11)","v":19.399999999999999},{"$f":"AVERAGE('South Bighorns'!D10:D11)","v":13.925000000000001},2,null,3,1,3,null,null,"BI",0,8,23,41,49,null,null,"IGNITION COMPONENT",null,null,null,null,null,"FM Y"]
[null,null,{"$f":"TODAY()+2","v":"2025-09-25"},{"$f":"AVERAGE('South Bighorns'!E8:E9)","v":32.150000000000006},{"$f":"AVERAGE('South Bighorns'!G8:G9)","v":22.39},{"$f":"AVERAGE('South Bighorns'!D8:D9)","v":23.44},3,null,3,2,3,null,null,0,1,1,1,2,2,null,"STAFFING LEVEL (ERC)",0,8,17,31,43,null,0,1]
[null,null,{"$f":"TODAY()+3","v":"2025-09-26"},{"$f":"AVERAGE('South Bighorns'!E6:E7)","v":33.704999999999998},{"$f":"AVERAGE('South Bighorns'!G6:G7)","v":21.89},{"$f":"AVERAGE('South Bighorns'!D6:D7)","v":21.855},3,null,3,2,3,null,null,20,1,1,2,2,3,null,1,1,1,1,2,2,null,8,2]
[null,null,{"$f":"TODAY()+4","v":"2025-09-27"},{"$f":"AVERAGE('South Bighorns'!E4:E5)","v":35.414999999999999},{"$f":"AVERAGE('South Bighorns'!G4:G5)","v":22.884999999999998},{"$f":"AVERAGE('South Bighorns'!D4:D5)","v":22.675000000000001},3,null,3,2,3,null,null,29,1,2,3,3,3,null,2,1,2,2,2,3,null,23,3]
[null,null,{"$f":"TODAY()+5","v":"2025-09-28"},{"$f":"AVERAGE('South Bighorns'!E2:E3)","v":36.364999999999995},{"$f":"AVERAGE('South Bighorns'!G2:G3)","v":22.555},{"$f":"AVERAGE('South Bighorns'!D2:D3)","v":18.25},3,null,3,2,3,null,null,null,null,null,null,null,null,null,3,2,2,3,3,4,null,41,4]
[null,null,{"$f":"TODAY()+6","v":"2025-09-29"},null,null,null,null,null,null,null,null,null,null,null,null,null,null,null,null,null,4,2,3,4,4,5,null,49,5]
[null,null,null,null,null,null,null,null,null,null,null,null,null,null,null,null,null,null,null,null,5,3,4,4,5,5]
[]
[]
[null,null,"MEDBOW FDRA","ERC","BI","IC","ADJ RATING (DAILY)","ADJ RATING (POSTED)","PREPAREDNESS \n","RESPONSE","STAFFING",null,null,"MEDICINE BOW RESPONSE LEVEL",null,null,null,null,null,null,"MEDICINE BOW FIRE DANGER RATING",null,null,null,null,null,null,"PL / SL (ERCs)"]
[null,"Today",{"$f":"TODAY()","v":"2025-09-23"},{"$f":"AVERAGE('Med-Bow'!E22:E25)","v":10.54},{"$f":"AVERAGE('Med-Bow'!G22:G25)","v":10.8325},{"$f":"AVERAGE('Med-Bow'!D22:D25)","v":0.44},{"$f":"INDEX($V$55:$Z$59,MATCH($K52,$U$55:$U$59),MATCH($F52,$V$54:$Z$54))","v":1},{"$f":"ROUND(AVERAGE(G52:G57),0)","v":1},{"$f":"VLOOKUP($D52,$AB$54:$AC$58,2)","v":1},{"$f":"INDEX($O$54:$S$56,MATCH(E52,$N$54:$N$56),MATCH($D52,$O$53:$S$53))","v":1},{"$f":"VLOOKUP($D52,$AB$54:$AC$58,2)","v":1},null,null,null,"ERC",null,null,null,null,null,"ADJECTIVE FIRE DANGER RATING",null,null,null,null,null,null,"MEDICINE BOW"]
[null,"Forecasted",{"$f":"TODAY()+1","v":"2025-09-24"},{"$f":"AVERAGE('Med-Bow'!E18:E21)","v":25.592500000000001},{"$f":"AVERAGE('Med-Bow'!G18:G21)","v":16.9725},{"$f":"AVERAGE('Med-Bow'!D18:D21)","v":4.8075000000000001},1,null,1,1,1,null,null,"BI",0,46,65,88,100,null,null,"IGNITION COMPONENT",null,null,null,null,null,"FM Z"]
[null,null,{"$f":"TODAY()+2","v":"2025-09-25"},{"$f":"AVERAGE('Med-Bow'!E14:E17)","v":29.395},{"$f":"AVERAGE('Med-Bow'!G14:G17)","v":21.305},{"$f":"AVERAGE('Med-Bow'!D14:D17)","v":8.4224999999999994},1,null,1,1,1,null,null,0,1,1,1,2,2,null,"STAFFING LEVEL (ERC)",0,8,19,31,42,null,0,1]
[null,null,{"$f":"TODAY()+3","v":"2025-09-26"},{"$f":"AVERAGE('Med-Bow'!E10:E13)","v":31.4375},{"$f":"AVERAGE('Med-Bow'!G10:G13)","v":23.475000000000001},{"$f":"AVERAGE('Med-Bow'!D10:D13)","v":7.8449999999999998},1,null,1,1,1,null,null,45,1,1,2,2,3,null,1,1,1,1,2,2,null,46,2]
[null,null,{"$f":"TODAY()+4","v":"2025-09-27"},{"$f":"AVERAGE('Med-Bow'!E6:E9)","v":55.027500000000003},{"$f":"AVERAGE('Med-Bow'!G6:G9)","v":46.73},{"$f":"AVERAGE('Med-Bow'!D6:D9)","v":14.275000000000002},2,null,2,1,2,null,null,70,1,2,3,3,3,null,2,1,2,2,2,3,null,65,3]
[null,null,{"$f":"TODAY()+5","v":"2025-09-28"},{"$f":"AVERAGE('Med-Bow'!E2:E5)","v":54.107500000000002},{"$f":"AVERAGE('Med-Bow'!G2:G5)","v":45.234999999999999},{"$f":"AVERAGE('Med-Bow'!D2:D5)","v":8.4625000000000004},2,null,2,1,2,null,null,null,null,null,null,null,null,null,3,2,2,3,3,4,null,88,4]
[null,null,{"$f":"TODAY()+6","v":"2025-09-29"},null,null,null,null,null,null,null,null,null,null,null,null,null,null,null,null,null,4,2,3,4,4,5,null,100,5]
[null,null,null,null,null,null,null,null,null,null,null,null,null,null,null,null,null,null,null,null,5,3,4,4,5,5]

{"sheet":"FDRA Map","index":1,"n_rows":0,"n_cols":0,"rows_kept":0,"cut":false,"hidden":false,"merged":[]}

{"sheet":"West","index":2,"n_rows":131,"n_cols":8,"rows_kept":131,"cut":false,"hidden":false,"merged":[]}
["stationName","observationTime","observationTime - Copy","ignitionComponent","energyReleaseComponent","spreadComponent","burningIndex","NFDRQAFlag"]
["DODGE CREEK","2025-09-28",20,18.739999999999998,18.14,3.56,20.47,0]
["MUDDY CREEK","2025-09-28",20,23.49,41.23,2.83,26.88,0]
["COW CREEK","2025-09-28",20,15.84,31.56,2.99,24.39,0]
["SNOW SPRINGS CREEK","2025-09-28",20,20.28,35.450000000000003,2.94,25.52,0]
["ANDERSON RIDGE","2025-09-28",20,24.29,42.72,2.88,27.53,0]
["DODGE CREEK","2025-09-27",20,20.09,15.49,2.93,17.399999999999999,0]
["COW CREEK","2025-09-27",20,23.36,31.41,3.04,24.53,0]
["SNOW SPRINGS CREEK","2025-09-27",20,27.47,35.619999999999997,2.76,24.85,0]
["ANDERSON RIDGE","2025-09-27",20,30.45,42.55,2.86,27.42,0]
["MUDDY CREEK","2025-09-27",20,29.53,41.34,2.61,25.94,0]
["DODGE CREEK","2025-09-26",20,23.62,11.56,3.51,16.53,0]
["COW CREEK","2025-09-26",20,23.43,30.48,3.05,24.21,0]
["SNOW SPRINGS CREEK","2025-09-26",20,31.28,35.28,3.1,26.08,0]
["ANDERSON RIDGE","2025-09-26",20,32.56,41.3,3.15,28.27,0]
["MUDDY CREEK","2025-09-26",20,34.840000000000003,40.49,3.2,28.21,0]
["MUDDY CREEK","2025-09-25",20,33.799999999999997,39.409999999999997,2.74,25.92,0]
["ANDERSON RIDGE","2025-09-25",20,30.72,39.96,3.09,27.58,0]
["SNOW SPRINGS CREEK","2025-09-25",20,26.26,32.840000000000003,2.71,23.75,0]
["DODGE CREEK","2025-09-25",20,23.66,6.43,3.5,12.61,0]
["COW CREEK","2025-09-25",20,20.95,28.76,2.75,22.48,0]
["DODGE CREEK","2025-09-24",20,10.47,0,2.59,0,0]
["COW CREEK","2025-09-24",20,10.78,26.22,2.0499999999999998,18.82,0]
["SNOW SPRINGS CREEK","2025-09-24",20,14.48,31.89,1.99,20.32,0]
["ANDERSON RIDGE","2025-09-24",20,15.55,37.049999999999997,2.39,23.67,0]
["MUDDY CREEK","2025-09-24",20,18.79,36.590000000000003,1.79,20.63,0]
["DODGE CREEK","2025-09-23",20,0.04,0,0.48,0,0]
["COW CREEK","2025-09-23",20,2.79,22.13,2.12,17.670000000000002,0]
["SNOW SPRINGS CREEK","2025-09-23",20,2.58,26.36,2.1,19.079999999999998,0]
["ANDERSON RIDGE","2025-09-23",20,5.41,32.99,1.85,19.97,0]
["MUDDY CREEK","2025-09-23",20,8.35,32.89,2.7,23.72,0]
["SNOW SPRINGS CREEK","2025-09-22",20,0,21.78,0,0,0]
["MUDDY CREEK","2025-09-22",20,0,22.21,0,0,0]
["ANDERSON RIDGE","2025-09-22",20,0,18.850000000000001,0,0,0]
["DODGE CREEK","2025-09-22",20,0,0,0,0,0]
["COW CREEK","2025-09-22",20,0,15.96,0,0,0]
["DODGE CREEK","2025-09-21",20,2.5299999999999998,0,2.8,0,0]
["COW CREEK","2025-09-21",20,10.74,34.5,2.81,24.68,0]
["SNOW SPRINGS CREEK","2025-09-21",20,12.04,38.79,3.3,28.04,0]
["ANDERSON RIDGE","2025-09-21",20,7.51,31.56,3.72,26.97,0]
["MUDDY CREEK","2025-09-21",20,21.38,39.51,3.66,29.68,0]
["DODGE CREEK","2025-09-20",20,1.76,0,1.46,0,0]
["COW CREEK","2025-09-20",20,14.61,35.39,2.54,23.84,0]
["SNOW SPRINGS CREEK","2025-09-20",20,10.42,38.79,3.22,27.74,0]
["ANDERSON RIDGE","2025-09-20",20,25.45,40.98,2.92,27.19,0]
["MUDDY CREEK","2025-09-20",20,11.93,38.950000000000003,2.44,24.45,0]
["ANDERSON RIDGE","2025-09-19",20,23.61,40.72,1.94,22.46,0]
["MUDDY CREEK","2025-09-19",20,28.08,42.02,2.38,25.04,0]
["COW CREEK","2025-09-19",20,25.21,36.46,2.9,25.69,0]
["DODGE CREEK","2025-09-19",20,1.5,0,1.2,0,0]
["SNOW SPRINGS CREEK","2025-09-19",20,27.4,42.44,2.77,26.95,0]
["DODGE CREEK","2025-09-18",20,9.2200000000000006,37.590000000000003,1.69,20.309999999999999,0]
["COW CREEK","2025-09-18",20,19.05,34.619999999999997,2.13,21.78,0]
["SNOW SPRINGS CREEK","2025-09-18",20,23.82,41.34,2.1,23.47,0]
["ANDERSON RIDGE","2025-09-18",20,22.3,38.14,2.6,24.95,0]
["MUDDY CREEK","2025-09-18",20,26.97,41.56,1.87,22.32,0]
["MUDDY CREEK","2025-09-17",20,16.989999999999998,38.61,1.76,20.94,0]
["ANDERSON RIDGE","2025-09-17",20,0.83,25.48,1.1000000000000001,13.93,0]
["COW CREEK","2025-09-17",20,7.04,30.16,2.27,21.03,0]
["DODGE CREEK","2025-09-17",20,0.27,31.9,1.64,18.559999999999999,0]
["SNOW SPRINGS CREEK","2025-09-17",20,11.16,38.39,2.0699999999999998,22.52,0]
["DODGE CREEK","2025-09-16",20,0,24.33,0,0,0]
["COW CREEK","2025-09-16",20,0,17.93,0,0,0]
["SNOW SPRINGS CREEK","2025-09-16",20,11.38,37.92,2.25,23.28,0]
["ANDERSON RIDGE","2025-09-16",20,9.74,38.090000000000003,2.39,23.98,0]
["MUDDY CREEK","2025-09-16",20,24.11,38.56,2.27,23.55,0]
["DODGE CREEK","2025-09-15",20,21.44,39.590000000000003,2.98,27.02,0]
["SNOW SPRINGS CREEK","2025-09-15",20,21.36,41.75,3.22,28.67,0]
["MUDDY CREEK","2025-09-15",20,29.07,39.29,3.73,29.84,0]
["COW CREEK","2025-09-15",20,24.78,35.950000000000003,3.32,27.17,0]
["ANDERSON RIDGE","2025-09-15",20,20.49,39.369999999999997,3.43,28.74,0]
["DODGE CREEK","2025-09-14",20,26.48,39.61,4.67,33.21,0]
["COW CREEK","2025-09-14",20,20.04,35.31,3.62,28.02,0]
["SNOW SPRINGS CREEK","2025-09-14",20,27.41,41.98,3.92,31.49,0]
["ANDERSON RIDGE","2025-09-14",20,24.37,39.82,3.56,29.39,0]
["MUDDY CREEK","2025-09-14",20,33.130000000000003,38.619999999999997,3.62,29.22,0]
["DODGE CREEK","2025-09-13",20,8.61,36.71,2.72,25.03,0]
["COW CREEK","2025-09-13",20,2.33,31.96,1.49,17.82,0]
["SNOW SPRINGS CREEK","2025-09-13",20,11.15,39.51,2.4300000000000002,24.59,0]
["ANDERSON RIDGE","2025-09-13",20,14.54,39.68,2,22.52,0]
["MUDDY CREEK","2025-09-13",20,5.56,33.6,1.85,20.100000000000001,0]
["MUDDY CREEK","2025-09-12",20,12.07,36.96,2.09,22.25,0]
["ANDERSON RIDGE","2025-09-12",20,0,26.83,0,0,0]
["DODGE CREEK","2025-09-12",20,6.89,36.44,2.0699999999999998,22,0]
["SNOW SPRINGS CREEK","2025-09-12",20,0,27.79,0,0,0]
["COW CREEK","2025-09-12",20,0.21,29.23,1.43,16.78,0]
["DODGE CREEK","2025-09-11",20,20.82,39.79,2.94,26.93,0]
["COW CREEK","2025-09-11",20,22.48,44.53,3.96,32.49,0]
["SNOW SPRINGS CREEK","2025-09-11",20,29,43.01,4.2300000000000004,32.979999999999997,0]
["ANDERSON RIDGE","2025-09-11",20,15.62,39.51,3.21,27.92,0]
["MUDDY CREEK","2025-09-11",20,34.1,38.51,3.18,27.47,0]
["DODGE CREEK","2025-09-10",20,17.79,36.159999999999997,2.42,23.54,0]
["COW CREEK","2025-09-10",20,48.77,46.54,5.4,38.270000000000003,0]
["SNOW SPRINGS CREEK","2025-09-10",20,42.23,43.53,5.77,38.25,0]
["ANDERSON RIDGE","2025-09-10",20,46.56,43.72,5.29,36.83,0]
["MUDDY CREEK","2025-09-10",20,25.93,36.590000000000003,3.33,27.43,0]
["MUDDY CREEK","2025-09-09",20,17.61,33.68,2.0499999999999998,21.1,0]
["ANDERSON RIDGE","2025-09-09",20,18.399999999999999,39.94,2.1,23.1,0]
["COW CREEK","2025-09-09",20,26.1,43.06,3.37,29.7,0]
["DODGE CREEK","2025-09-09",20,15.15,38.01,2.36,23.83,0]
["SNOW SPRINGS CREEK","2025-09-09",20,26.77,40.89,3.39,29.08,0]
["DODGE CREEK","2025-09-08",20,24.78,37.99,2.67,25.2,0]
["COW CREEK","2025-09-08",20,18.71,40.5,2.67,25.93,0]
["SNOW SPRINGS CREEK","2025-09-08",20,20.56,40.68,2.94,27.18,0]
["ANDERSON RIDGE","2025-09-08",20,27.26,40.86,2.75,26.44,0]
["MUDDY CREEK","2025-09-08",20,32.24,38.31,2.48,24.45,0]
["DODGE CREEK","2025-09-07",20,0,22.63,0,0,0]
["COW CREEK","2025-09-07",20,25.48,41.53,3.82,30.97,0]
["SNOW SPRINGS CREEK","2025-09-07",20,3.62,34.799999999999997,2.75,24.52,0]
["ANDERSON RIDGE","2025-09-07",20,18.12,38.78,3.54,28.95,0]
["MUDDY CREEK","2025-09-07",20,6.02,31.79,2,20.34,0]
["ANDERSON RIDGE","2025-09-06",20,19.5,40.47,2.5,25.18,0]
["MUDDY CREEK","2025-09-06",20,3.72,34.020000000000003,1.73,19.600000000000001,0]
["COW CREEK","2025-09-06",20,17.12,41.15,2.4300000000000002,25.02,0]
["DODGE CREEK","2025-09-06",20,21.4,35.369999999999997,2.99,25.68,0]
["SNOW SPRINGS CREEK","2025-09-06",20,10.38,40.86,3.22,28.39,0]
["DODGE CREEK","2025-09-05",20,12.98,32.4,2.7,23.55,0]
["COW CREEK","2025-09-05",20,21.67,40.35,3.22,28.23,0]
["SNOW SPRINGS CREEK","2025-09-05",20,23.48,43.67,3.05,28.56,0]
["ANDERSON RIDGE","2025-09-05",20,15.49,38.24,2.78,25.74,0]
["MUDDY CREEK","2025-09-05",20,22.77,43.56,2.0499999999999998,23.74,0]
["MUDDY CREEK","2025-09-04",20,46.85,45.52,4.0999999999999996,33.369999999999997,0]
["ANDERSON RIDGE","2025-09-04",20,28.86,41.54,6.09,38.369999999999997,0]
["COW CREEK","2025-09-04",20,50.15,43.08,5.1100000000000003,36,0]
["DODGE CREEK","2025-09-04",20,20.23,32.840000000000003,5.54,32.979999999999997,0]
["SNOW SPRINGS CREEK","2025-09-04",20,49.63,47.12,5.84,39.9,0]
["DODGE CREEK","2025-09-03",20,35.200000000000003,33.42,3.44,26.71,0]
["COW CREEK","2025-09-03",20,38.17,41.22,2.48,25.31,0]
["SNOW SPRINGS CREEK","2025-09-03",20,47.3,45.96,3.16,29.73,0]
["ANDERSON RIDGE","2025-09-03",20,40.54,42.27,2.75,26.81,0]
["MUDDY CREEK","2025-09-03",20,43.85,44.24,2.44,25.94,0]

{"sheet":"East","index":3,"n_rows":77,"n_cols":8,"rows_kept":77,"cut":false,"hidden":false,"merged":[]}
["stationName","observationTime","observationTime - Copy","ignitionComponent","energyReleaseComponent","spreadComponent","burningIndex","NFDRQAFlag"]
["ECHETA","2025-09-28",20,35.18,43.7,3.66,31.08,0]
["ROCHELLE HILLS","2025-09-28",20,25.98,38.97,2.89,26.44,0]
["POKER CREEK","2025-09-28",20,20.98,41.26,2.36,24.75,0]
["ESTERBROOK","2025-09-28",20,18.510000000000002,33.58,2.46,22.95,0]
["ECHETA","2025-09-27",20,41.03,42.73,3.87,31.56,0]
["ROCHELLE HILLS","2025-09-27",20,31.35,38.07,3.3,27.79,0]
["POKER CREEK","2025-09-27",20,25.94,40.43,2.5099999999999998,25.23,0]
["ESTERBROOK","2025-09-27",20,22.34,32.33,2.59,23.06,0]
["ECHETA","2025-09-26",20,34.159999999999997,41.05,2.95,27.36,0]
["ROCHELLE HILLS","2025-09-26",20,31.91,36.58,2.87,25.62,0]
["POKER CREEK","2025-09-26",20,25.25,39.01,2.4900000000000002,24.71,0]
["ESTERBROOK","2025-09-26",20,23.1,30.2,2.42,21.66,0]
["ECHETA","2025-09-25",20,37.06,38.909999999999997,2.81,26.08,0]
["ROCHELLE HILLS","2025-09-25",20,28.62,33.869999999999997,2.19,21.84,0]
["POKER CREEK","2025-09-25",20,27.71,37.700000000000003,2.76,25.5,0]
["ESTERBROOK","2025-09-25",20,22,27.63,2.0299999999999998,19.170000000000002,0]
["ECHETA","2025-09-24",20,37.340000000000003,36.06,3.74,28.72,0]
["ROCHELLE HILLS","2025-09-24",20,22.73,30.47,2.59,22.44,0]
["POKER CREEK","2025-09-24",20,17.84,34.78,2.27,22.45,0]
["ESTERBROOK","2025-09-24",20,13.53,24.16,2.13,18.440000000000001,0]
["ECHETA","2025-09-23",20,14.81,32.76,1.98,20.53,0]
["ROCHELLE HILLS","2025-09-23",20,9.51,26.99,1.68,17.399999999999999,0]
["POKER CREEK","2025-09-23",20,7.13,31.1,1.76,18.98,0]
["ESTERBROOK","2025-09-23",20,2.66,18.43,1.39,13.36,0]
["ECHETA","2025-09-22",20,6.84,29.77,4.91,29.82,0]
["ROCHELLE HILLS","2025-09-22",20,0.14000000000000001,18.45,2.0299999999999998,15.95,0]
["POKER CREEK","2025-09-22",20,0,17.309999999999999,0,0,0]
["ESTERBROOK","2025-09-22",20,0,16.22,0,0,0]
["ECHETA","2025-09-21",20,30.31,34.81,2.08,21.58,0]
["ROCHELLE HILLS","2025-09-21",20,25.74,31.78,1.96,20.16,0]
["POKER CREEK","2025-09-21",20,21.54,38.619999999999997,2.38,24.07,0]
["ESTERBROOK","2025-09-21",20,14.12,28.06,1.97,19.059999999999999,0]
["ROCHELLE HILLS","2025-09-20",20,13.87,27.59,1.65,17.440000000000001,0]
["POKER CREEK","2025-09-20",20,18.329999999999998,37.36,1.79,20.8,0]
["ESTERBROOK","2025-09-20",20,5.73,24.35,1.42,15.38,0]
["ECHETA","2025-09-20",20,20.47,30.92,1.82,19.239999999999998,0]
["ECHETA","2025-09-19",20,14.86,28.22,1.98,19.16,0]
["ROCHELLE HILLS","2025-09-19",20,10.81,27.21,1.71,17.62,0]
["POKER CREEK","2025-09-19",20,15.64,36.479999999999997,1.72,20.190000000000001,0]
["ESTERBROOK","2025-09-19",20,7.43,24.74,1.49,15.8,0]
["ECHETA","2025-09-18",20,15.55,27.36,2.96,22.73,0]
["ROCHELLE HILLS","2025-09-18",20,10.7,26.02,2.39,20.11,0]
["POKER CREEK","2025-09-18",20,16.29,35.25,1.88,20.74,0]
["ESTERBROOK","2025-09-18",20,6.39,22.63,1.45,15,0]
["ECHETA","2025-09-17",20,0,12.62,0,0,0]
["ROCHELLE HILLS","2025-09-17",20,0.52,21.19,1.49,14.71,0]
["POKER CREEK","2025-09-17",20,1.91,29.38,1.22,15.62,0]
["ESTERBROOK","2025-09-17",20,0,12.18,0,0,0]
["ECHETA","2025-09-16",20,6.17,28.23,1.71,17.89,0]
["ROCHELLE HILLS","2025-09-16",20,4.6100000000000003,28.39,1.79,18.350000000000001,0]
["POKER CREEK","2025-09-16",20,0.9,29.76,1.06,14.74,0]
["ESTERBROOK","2025-09-16",20,0,18.73,0,0,0]
["ECHETA","2025-09-15",20,0,19.61,0,0,0]
["ROCHELLE HILLS","2025-09-15",20,1.62,24.73,1.71,16.850000000000001,0]
["POKER CREEK","2025-09-15",20,9.4600000000000009,37.979999999999997,2.19,22.99,0]
["ESTERBROOK","2025-09-15",20,15.36,39.869999999999997,1.85,21.78,0]
["ECHETA","2025-09-14",20,21.32,37.04,1.99,21.76,0]
["ROCHELLE HILLS","2025-09-14",20,19.95,33.450000000000003,2.13,21.4,0]
["ESTERBROOK","2025-09-14",20,21.1,39.130000000000003,2.0099999999999998,22.39,0]
["POKER CREEK","2025-09-14",20,20.29,40.15,2.17,23.48,0]
["ECHETA","2025-09-13",20,9.65,35.6,2.16,22.17,0]
["ROCHELLE HILLS","2025-09-13",20,24.07,35,2.62,24.06,0]
["POKER CREEK","2025-09-13",20,10.46,37.42,2.21,22.95,0]
["ESTERBROOK","2025-09-13",20,9.2799999999999994,37.17,1.68,20.14,0]
["ECHETA","2025-09-12",20,0,27.52,0,0,0]
["ROCHELLE HILLS","2025-09-12",20,0.76,28.16,1.34,15.98,0]
["POKER CREEK","2025-09-12",20,0,24.9,0,0,0]
["ESTERBROOK","2025-09-12",20,0,20.63,0,0,0]
["ECHETA","2025-09-11",20,24.68,45.72,3.04,29.14,0]
["ROCHELLE HILLS","2025-09-11",20,37.380000000000003,40.94,3.47,29.42,0]
["POKER CREEK","2025-09-11",20,25.28,45.43,3.34,30.32,0]
["ESTERBROOK","2025-09-11",20,21.96,43.06,2.19,24.36,0]
["ROCHELLE HILLS","2025-09-10",20,30.15,42.46,3.95,31.75,0]
["ECHETA","2025-09-10",20,44.02,47.94,6.11,41.05,0]
["POKER CREEK","2025-09-10",20,35.89,45.05,3.23,29.75,0]
["ESTERBROOK","2025-09-10",20,19.97,42.3,2.31,24.77,0]

{"sheet":"Laramie","index":4,"n_rows":58,"n_cols":8,"rows_kept":58,"cut":false,"hidden":false,"merged":[]}
["stationName","observationTime","observationTime - Copy","ignitionComponent","energyReleaseComponent","spreadComponent","burningIndex","NFDRQAFlag"]
["DODGE CREEK","2025-09-28",20,18.739999999999998,18.14,3.56,20.47,0]
["ESTERBROOK","2025-09-28",20,18.510000000000002,33.58,2.46,22.95,0]
["CASPER MOUNTAIN","2025-09-28",20,15.52,31.47,2.0299999999999998,20.36,0]
["DODGE CREEK","2025-09-27",20,20.09,15.49,2.93,17.399999999999999,0]
["ESTERBROOK","2025-09-27",20,22.34,32.33,2.59,23.06,0]
["CASPER MOUNTAIN","2025-09-27",20,19.41,30.4,2.14,20.54,0]
["DODGE CREEK","2025-09-26",20,23.62,11.56,3.51,16.53,0]
["ESTERBROOK","2025-09-26",20,23.1,30.2,2.42,21.66,0]
["CASPER MOUNTAIN","2025-09-26",20,18.46,28.4,1.95,19.07,0]
["DODGE CREEK","2025-09-25",20,23.66,6.43,3.5,12.61,0]
["ESTERBROOK","2025-09-25",20,22,27.63,2.0299999999999998,19.170000000000002,0]
["CASPER MOUNTAIN","2025-09-25",20,19.170000000000002,26.6,2.13,19.28,0]
["CASPER MOUNTAIN","2025-09-24",20,10.01,23.16,1.71,16.350000000000001,0]
["DODGE CREEK","2025-09-24",20,10.47,0,2.59,0,0]
["ESTERBROOK","2025-09-24",20,13.53,24.16,2.13,18.440000000000001,0]
["ESTERBROOK","2025-09-23",20,2.66,18.43,1.39,13.36,0]
["CASPER MOUNTAIN","2025-09-23",20,2.09,18.22,1.1299999999999999,12.1,0]
["DODGE CREEK","2025-09-23",20,0.04,0,0.48,0,0]
["DODGE CREEK","2025-09-22",20,0,0,0,0,0]
["ESTERBROOK","2025-09-22",20,0,16.22,0,0,0]
["CASPER MOUNTAIN","2025-09-22",20,0,15.41,0,0,0]
["DODGE CREEK","2025-09-21",20,2.5299999999999998,0,2.8,0,0]
["ESTERBROOK","2025-09-21",20,14.12,28.06,1.97,19.059999999999999,0]
["CASPER MOUNTAIN","2025-09-21",20,0.73,22.57,1.41,14.76,0]
["DODGE CREEK","2025-09-20",20,1.76,0,1.46,0,0]
["ESTERBROOK","2025-09-20",20,5.73,24.35,1.42,15.38,0]
["CASPER MOUNTAIN","2025-09-20",20,10.57,27.68,1.46,16.48,0]
["DODGE CREEK","2025-09-19",20,1.5,0,1.2,0,0]
["ESTERBROOK","2025-09-19",20,7.43,24.74,1.49,15.8,0]
["CASPER MOUNTAIN","2025-09-19",20,12.64,26.33,1.64,17.010000000000002,0]
["DODGE CREEK","2025-09-18",20,9.2200000000000006,37.590000000000003,1.69,20.309999999999999,0]
["ESTERBROOK","2025-09-18",20,6.39,22.63,1.45,15,0]
["CASPER MOUNTAIN","2025-09-18",20,9.27,26.42,1.55,16.579999999999998,0]
["DODGE CREEK","2025-09-17",20,0.27,31.9,1.64,18.559999999999999,0]
["ESTERBROOK","2025-09-17",20,0,12.18,0,0,0]
["CASPER MOUNTAIN","2025-09-17",20,0,13.29,0,0,0]
["DODGE CREEK","2025-09-16",20,0,24.33,0,0,0]
["ESTERBROOK","2025-09-16",20,0,18.73,0,0,0]
["CASPER MOUNTAIN","2025-09-16",20,0,21.04,0,0,0]
["DODGE CREEK","2025-09-15",20,21.44,39.590000000000003,2.98,27.02,0]
["ESTERBROOK","2025-09-15",20,15.36,39.869999999999997,1.85,21.78,0]
["CASPER MOUNTAIN","2025-09-15",20,0,25.94,0,0,0]
["CASPER MOUNTAIN","2025-09-14",20,18.28,39.64,1.79,21.39,0]
["ESTERBROOK","2025-09-14",20,21.1,39.130000000000003,2.0099999999999998,22.39,0]
["DODGE CREEK","2025-09-14",20,26.48,39.61,4.67,33.21,0]
["DODGE CREEK","2025-09-13",20,8.61,36.71,2.72,25.03,0]
["ESTERBROOK","2025-09-13",20,9.2799999999999994,37.17,1.68,20.14,0]
["CASPER MOUNTAIN","2025-09-13",20,11.91,38.75,1.62,20.21,0]
["DODGE CREEK","2025-09-12",20,6.89,36.44,2.0699999999999998,22,0]
["ESTERBROOK","2025-09-12",20,0,20.63,0,0,0]
["CASPER MOUNTAIN","2025-09-12",20,5.18,36.869999999999997,1.54,19.309999999999999,0]
["DODGE CREEK","2025-09-11",20,20.82,39.79,2.94,26.93,0]
["ESTERBROOK","2025-09-11",20,21.96,43.06,2.19,24.36,0]
["CASPER MOUNTAIN","2025-09-11",20,26.41,42.65,2.94,27.76,0]
["DODGE CREEK","2025-09-10",20,17.79,36.159999999999997,2.42,23.54,0]
["ESTERBROOK","2025-09-10",20,19.97,42.3,2.31,24.77,0]
["CASPER MOUNTAIN","2025-09-10",20,29.86,42.08,2.63,26.21,0]

{"sheet":"South Bighorns","index":5,"n_rows":39,"n_cols":8,"rows_kept":39,"cut":false,"hidden":false,"merged":[]}
["stationName","observationTime","observationTime - Copy","ignitionComponent","energyReleaseComponent","spreadComponent","burningIndex","NFDRQAFlag"]
["CASPER MOUNTAIN","2025-09-28",20,15.52,31.47,2.0299999999999998,20.36,0]
["POKER CREEK","2025-09-28",20,20.98,41.26,2.36,24.75,0]
["POKER CREEK","2025-09-27",20,25.94,40.43,2.5099999999999998,25.23,0]
["CASPER MOUNTAIN","2025-09-27",20,19.41,30.4,2.14,20.54,0]
["CASPER MOUNTAIN","2025-09-26",20,18.46,28.4,1.95,19.07,0]
["POKER CREEK","2025-09-26",20,25.25,39.01,2.4900000000000002,24.71,0]
["CASPER MOUNTAIN","2025-09-25",20,19.170000000000002,26.6,2.13,19.28,0]
["POKER CREEK","2025-09-25",20,27.71,37.700000000000003,2.76,25.5,0]
["CASPER MOUNTAIN","2025-09-24",20,10.01,23.16,1.71,16.350000000000001,0]
["POKER CREEK","2025-09-24",20,17.84,34.78,2.27,22.45,0]
["POKER CREEK","2025-09-23",20,7.13,31.1,1.76,18.98,0]
["CASPER MOUNTAIN","2025-09-23",20,2.09,18.22,1.1299999999999999,12.1,0]
["CASPER MOUNTAIN","2025-09-22",20,0,15.41,0,0,0]
["POKER CREEK","2025-09-22",20,0,17.309999999999999,0,0,0]
["CASPER MOUNTAIN","2025-09-21",20,0.73,22.57,1.41,14.76,0]
["POKER CREEK","2025-09-21",20,21.54,38.619999999999997,2.38,24.07,0]
["CASPER MOUNTAIN","2025-09-20",20,10.57,27.68,1.46,16.48,0]
["POKER CREEK","2025-09-20",20,18.329999999999998,37.36,1.79,20.8,0]
["CASPER MOUNTAIN","2025-09-19",20,12.64,26.33,1.64,17.010000000000002,0]
["POKER CREEK","2025-09-19",20,15.64,36.479999999999997,1.72,20.190000000000001,0]
["POKER CREEK","2025-09-18",20,16.29,35.25,1.88,20.74,0]
["CASPER MOUNTAIN","2025-09-18",20,9.27,26.42,1.55,16.579999999999998,0]
["CASPER MOUNTAIN","2025-09-17",20,0,13.29,0,0,0]
["POKER CREEK","2025-09-17",20,1.91,29.38,1.22,15.62,0]
["CASPER MOUNTAIN","2025-09-16",20,0,21.04,0,0,0]
["POKER CREEK","2025-09-16",20,0.9,29.76,1.06,14.74,0]
["CASPER MOUNTAIN","2025-09-15",20,0,25.94,0,0,0]
["POKER CREEK","2025-09-15",20,9.4600000000000009,37.979999999999997,2.19,22.99,0]
["POKER CREEK","2025-09-14",20,20.29,40.15,2.17,23.48,0]
["CASPER MOUNTAIN","2025-09-14",20,18.28,39.64,1.79,21.39,0]
["CASPER MOUNTAIN","2025-09-13",20,11.91,38.75,1.62,20.21,0]
["POKER CREEK","2025-09-13",20,10.46,37.42,2.21,22.95,0]
["CASPER MOUNTAIN","2025-09-12",20,5.18,36.869999999999997,1.54,19.309999999999999,0]
["POKER CREEK","2025-09-12",20,0,24.9,0,0,0]
["CASPER MOUNTAIN","2025-09-11",20,26.41,42.65,2.94,27.76,0]
["POKER CREEK","2025-09-11",20,25.28,45.43,3.34,30.32,0]
["CASPER MOUNTAIN","2025-09-10",20,29.86,42.08,2.63,26.21,0]
["POKER CREEK","2025-09-10",20,35.89,45.05,3.23,29.75,0]

{"sheet":"Med-Bow","index":6,"n_rows":77,"n_cols":8,"rows_kept":77,"cut":false,"hidden":false,"merged":[]}
["stationName","observationTime","observationTime - Copy","ignitionComponent","energyReleaseComponent","spreadComponent","burningIndex","NFDRQAFlag"]
["SAWMILL PARK","2025-09-28",20,8.09,46.35,7.9,45.47,0]
["DRY LAKE","2025-09-28",20,4.9000000000000004,56.22,4.0999999999999996,36.76,0]
["SANDSTONE","2025-09-28",20,10.65,54.91,8.2200000000000006,50.06,0]
["GUNSIGHT","2025-09-28",20,10.210000000000001,58.95,7.19,48.65,0]
["SAWMILL PARK","2025-09-27",20,12.38,43.33,7.44,42.89,0]
["SANDSTONE","2025-09-27",20,18.18,51.63,9.1,51.01,0]
["GUNSIGHT","2025-09-27",20,16.34,62.73,7.89,52.26,0]
["DRY LAKE","2025-09-27",20,10.199999999999999,62.42,4.62,40.76,0]
["SAWMILL PARK","2025-09-26",20,0,0,0,0,0]
["SANDSTONE","2025-09-26",20,0,3.03,0,0,0]
["GUNSIGHT","2025-09-26",20,18.079999999999998,61.6,7.1,49.36,0]
["DRY LAKE","2025-09-26",20,13.3,61.12,5.72,44.54,0]
["SAWMILL PARK","2025-09-25",20,0,0,0,0,0]
["SANDSTONE","2025-09-25",20,0,4.43,0,0,0]
["GUNSIGHT","2025-09-25",20,18.63,56.44,6.22,44.61,0]
["DRY LAKE","2025-09-25",20,15.06,56.71,5.05,40.61,0]
["GUNSIGHT","2025-09-24",20,11.66,46.62,4.75,36.090000000000003,0]
["DRY LAKE","2025-09-24",20,7.57,45.41,3.7,31.8,0]
["SAWMILL PARK","2025-09-24",20,0,1.84,0,0,0]
["SANDSTONE","2025-09-24",20,0,8.5,0,0,0]
["SANDSTONE","2025-09-23",20,1.76,31.08,5.46,31.92,0]
["SAWMILL PARK","2025-09-23",20,0,1.76,0,0,0]
["GUNSIGHT","2025-09-23",20,0,3.92,0.53,4.22,0]
["DRY LAKE","2025-09-23",20,0,5.4,1.23,7.19,0]
["SAWMILL PARK","2025-09-22",20,0,7.14,0,0,0]
["SANDSTONE","2025-09-22",20,0,10.08,0,0,0]
["GUNSIGHT","2025-09-22",20,0,6.88,0,0,0]
["DRY LAKE","2025-09-22",20,0,10.72,0,0,0]
["DRY LAKE","2025-09-21",20,0,20.82,0,0,0]
["SAWMILL PARK","2025-09-21",20,0,12.83,0,0,0]
["SANDSTONE","2025-09-21",20,0,26.26,0,0,0]
["GUNSIGHT","2025-09-21",20,4.55,49.71,7.24,45.11,0]
["SAWMILL PARK","2025-09-20",20,3.82,54.3,4.67,38.409999999999997,0]
["SANDSTONE","2025-09-20",20,9.11,68.28,7.08,51.67,0]
["GUNSIGHT","2025-09-20",20,0.44,38.369999999999997,4.09,30.79,0]
["DRY LAKE","2025-09-20",20,5.98,62.33,4.96,42.07,0]
["SAWMILL PARK","2025-09-19",20,12.28,62.86,4.82,41.69,0]
["SANDSTONE","2025-09-19",20,17.23,75.349999999999994,7.04,53.95,0]
["GUNSIGHT","2025-09-19",20,19.149999999999999,71.09,6.29,49.85,0]
["DRY LAKE","2025-09-19",20,15.57,72.3,5.1100000000000003,45.67,0]
["DRY LAKE","2025-09-18",20,12.25,64.52,4.8099999999999996,42.16,0]
["SAWMILL PARK","2025-09-18",20,9.3800000000000008,56.25,4.57,38.67,0]
["SANDSTONE","2025-09-18",20,13.58,69.58,5.78,47.5,0]
["GUNSIGHT","2025-09-18",20,15.74,65.739999999999995,5.13,43.8,0]
["SAWMILL PARK","2025-09-17",20,0.02,28.77,1.56,17.32,0]
["SANDSTONE","2025-09-17",20,3.13,52.58,6.11,42.82,0]
["GUNSIGHT","2025-09-17",20,7.23,50.19,7.78,46.84,0]
["DRY LAKE","2025-09-17",20,3.68,45.52,4.63,35.270000000000003,0]
["SANDSTONE","2025-09-16",20,2.4,49.67,3.72,33.21,0]
["GUNSIGHT","2025-09-16",20,0,8.06,0,0,0]
["DRY LAKE","2025-09-16",20,0,14.41,0,0,0]
["SAWMILL PARK","2025-09-16",20,0,7.42,0,0,0]
["SAWMILL PARK","2025-09-15",20,13.27,61.58,4.91,41.64,0]
["SANDSTONE","2025-09-15",20,20.77,70.92,10.65,63.45,0]
["GUNSIGHT","2025-09-15",20,19.11,66.510000000000005,7.21,51.48,0]
["DRY LAKE","2025-09-15",20,14.85,68.06,5.03,44.1,0]
["DRY LAKE","2025-09-14",20,8.83,54.4,6.12,43.52,0]
["GUNSIGHT","2025-09-14",20,13.68,54.21,10.81,56.47,0]
["SAWMILL PARK","2025-09-14",20,11.21,48.48,11.62,55.45,0]
["SANDSTONE","2025-09-14",20,14.05,61.13,12.06,62.75,0]
["SAWMILL PARK","2025-09-13",20,0,6.08,0,0,0]
["SANDSTONE","2025-09-13",20,0,22.09,0,0,0]
["GUNSIGHT","2025-09-13",20,0,7.79,0,0,0]
["DRY LAKE","2025-09-13",20,0,7.67,0,0,0]
["GUNSIGHT","2025-09-12",20,0,19.16,0,0,0]
["DRY LAKE","2025-09-12",20,0,13.43,0,0,0]
["SAWMILL PARK","2025-09-12",20,0,23.02,0,0,0]
["SANDSTONE","2025-09-12",20,0.51,36.57,5.3,33.94,0]
["SAWMILL PARK","2025-09-11",20,6.2,64.319999999999993,5.79,45.85,0]
["SANDSTONE","2025-09-11",20,1.28,52.05,8.0500000000000007,48.38,0]
["GUNSIGHT","2025-09-11",20,0,15.05,0,0,0]
["DRY LAKE","2025-09-11",20,0,27.96,0,0,0]
["SAWMILL PARK","2025-09-10",20,21.72,75.069999999999993,6.51,51.94,0]
["SANDSTONE","2025-09-10",20,39.979999999999997,91.32,15.83,85.53,0]
["GUNSIGHT","2025-09-10",20,35.76,83.56,13.74,76.95,0]
["DRY LAKE","2025-09-10",20,24.14,83.07,7.69,58.77,0]